Workbook

Sheet 2022.I.
A1: Foglalkoztatottak létszáma, személyi juttatása Egyéb jogviszonyban lévők létszáma, juttatása
A6: 2022. I. negyedév | B6: Törvény szerinti illetmények, munkabérek | C6: Normatív jutalmak, céljuttatás, projektprémium | D6: Készenléti, ügyeleti, helyettesítési díj, túlóra | E6: Végkielégítés, jubileumi jutalom | F6: Béren kívüli juttatások | G6: Költségtérítések | H6: Támogatások | I6: Egyéb személyi juttatások | J6: Egyéb jogviszonyban foglalkoztatottak juttatása | K6: Összesen
A7: Foglalkoztatottak létszáma (fő) | B7: 182
A8: Személyi juttatások (Ft.) | B8: 195039543 | C8: 4477308 | D8: 1938896 | E8: 8931611 | F8: 0 | G8: 192780 | H8: 50000 | I8: 4560744 | J8: 0 | K8: =SUM(B8:J8) -> 215190882
A9: Megbízási díjak (fő) | B9: 1
A10: Megbízási díjak (Ft.) | B10: 0 | C10: 0 | D10: 0 | E10: 0 | F10: 0 | G10: 0 | H10: 0 | I10: 0 | J10: 75000 | K10: =J10 -> 75000

Sheet 2022.II.
A1: Foglalkoztatottak létszáma, személyi juttatása Egyéb jogviszonyban lévők létszáma, juttatása
A6: 2022. II. negyedév | B6: Törvény szerinti illetmények, munkabérek | C6: Normatív jutalmak, céljuttatás, projektprémium | D6: Készenléti, ügyeleti, helyettesítési díj, túlóra | E6: Végkielégítés, jubileumi jutalom | F6: Béren kívüli juttatások | G6: Költségtérítések | H6: Támogatások | I6: Egyéb személyi juttatások | J6: Egyéb jogviszonyban foglalkoztatottak juttatása | K6: Összesen
A7: Foglalkoztatottak létszáma (fő) | B7: 176
A8: Személyi juttatások (Ft.) | B8: 213270924 | C8: 851880 | D8: 1864955 | E8: 2703915 | F8: 3340000 | G8: 667085 | H8: 50000 | I8: 2489008 | J8: 0 | K8: =SUM(B8:J8) -> 225237767
A9: Megbízási díjak (fő) | B9: 1
A10: Megbízási díjak (Ft.) | B10: 0 | C10: 0 | D10: 0 | E10: 0 | F10: 0 | G10: 0 | H10: 0 | I10: 0 | J10: 135000 | K10: =J10 -> 135000

Sheet 2022.III.
A1: Foglalkoztatottak létszáma, személyi juttatása Egyéb jogviszonyban lévők létszáma, juttatása
A6: 2022. III. negyedév | B6: Törvény szerinti illetmények, munkabérek | C6: Normatív jutalmak, céljuttatás, projektprémium | D6: Készenléti, ügyeleti, helyettesítési díj, túlóra | E6: Végkielégítés, jubileumi jutalom | F6: Béren kívüli juttatások | G6: Költségtérítések | H6: Támogatások | I6: Egyéb személyi juttatások | J6: Egyéb jogviszonyban foglalkoztatottak juttatása | K6: Összesen
A7: Foglalkoztatottak létszáma (fő) | B7: 176
A8: Személyi juttatások (Ft.) | B8: 208667371 | C8: 1250376 | D8: 2240706 | E8: 939855 | F8: 0 | G8: 572184 | H8: 0 | I8: 4673349 | J8: =358286+417300 -> 775586 | K8: =SUM(B8:J8) -> 219119427
A9: Megbízási díjak (fő) | B9: 1
A10: Megbízási díjak (Ft.) | B10: 0 | C10: 0 | D10: 0 | E10: 0 | F10: 0 | G10: 0 | H10: 0 | I10: 0 | J10: 55000 | K10: =J10 -> 55000

Sheet 2022.IV.
A1: Foglalkoztatottak létszáma, személyi juttatása Egyéb jogviszonyban lévők létszáma, juttatása
A6: 2022. IV. negyedév | B6: Törvény szerinti illetmények, munkabérek | C6: Normatív jutalmak, céljuttatás, projektprémium | D6: Készenléti, ügyeleti, helyettesítési díj, túlóra | E6: Végkielégítés, jubileumi jutalom | F6: Béren kívüli juttatások | G6: Költségtérítések | H6: Támogatások | I6: Egyéb személyi juttatások | J6: Egyéb jogviszonyban foglalkoztatottak juttatása | K6: Összesen
A7: Foglalkoztatottak létszáma (fő) | B7: 183
A8: Személyi juttatások (Ft.) | B8: 207352231 | C8: 26464797 | D8: 1379505 | E8: 0 | F8: 6200000 | G8: 1133202 | H8: 350000 | I8: =2865624+11550 -> 2877174 | J8: =2383440 -> 2383440 | K8: =SUM(B8:J8) -> 248140349
A9: Megbízási díjak (fő) | B9: 1
A10: Megbízási díjak (Ft.) | B10: 0 | C10: 0 | D10: 0 | E10: 0 | F10: 0 | G10: 0 | H10: 0 | I10: 0 | J10: 135000 | K10: =J10 -> 135000

Sheet 2022.összesítő
A1: Foglalkoztatottak létszáma, személyi juttatása Egyéb jogviszonyban lévők létszáma, juttatása
A4: Minden foglalkoztatott (Vezetők is, Nyári Diákok, és Tanulók is)
A6: 2022. év | B6: Törvény szerinti illetmények, munkabérek | C6: Normatív jutalmak, céljuttatás, projektprémium | D6: Készenléti, ügyeleti, helyettesítési díj, túlóra | E6: Végkielégítés, jubileumi jutalom | F6: Béren kívüli juttatások | G6: Költségtérítések | H6: Támogatások | I6: Egyéb személyi juttatások | J6: Egyéb jogviszonyban foglalkoztatottak juttatása | K6: Összesen
A7: Foglalkoztatottak létszáma (fő) | B7: 179
A8: Személyi juttatások (Ft.) | B8: ='2022.I.'!B8+'2022.II.'!B8+'2022.III.'!B8+'2022.IV.'!B8 -> 824330069 | C8: ='2022.I.'!C8+'2022.II.'!C8+'2022.III.'!C8+'2022.IV.'!C8 -> 33044361 | D8: ='2022.I.'!D8+'2022.II.'!D8+'2022.III.'!D8+'2022.IV.'!D8 -> 7424062 | E8: ='2022.I.'!E8+'2022.II.'!E8+'2022.III.'!E8+'2022.IV.'!E8 -> 12575381 | F8: ='2022.I.'!F8+'2022.II.'!F8+'2022.III.'!F8+'2022.IV.'!F8 -> 9540000 | G8: ='2022.I.'!G8+'2022.II.'!G8+'2022.III.'!G8+'2022.IV.'!G8 -> 2565251 | H8: ='2022.I.'!H8+'2022.II.'!H8+'2022.III.'!H8+'2022.IV.'!H8 -> 450000 | I8: ='2022.I.'!I8+'2022.II.'!I8+'2022.III.'!I8+'2022.IV.'!I8 -> 14600275 | J8: ='2022.I.'!J8+'2022.II.'!J8+'2022.III.'!J8+'2022.IV.'!J8 -> 3159026 | K8: =SUM(B8:J8) -> 907688425
A9: Megbízási díjak (fő) | B9: 1
A10: Megbízási díjak (Ft.) | B10: 0 | C10: 0 | D10: 0 | E10: 0 | F10: 0 | G10: 0 | H10: 0 | I10: 0 | J10: ='2022.I.'!J10+'2022.II.'!J10+'2022.III.'!J10+'2022.IV.'!J10 -> 400000 | K10: =J10 -> 400000
A14: csak VEZETŐK
A16: 2022.év | B16: Törvény szerinti illetmények, munkabérek | C16: Normatív jutalmak, céljuttatás, projektprémium | D16: Készenléti, ügyeleti, helyettesítési díj, túlóra | E16: Végkielégítés, jubileumi jutalom | F16: Béren kívüli juttatások | G16: Költségtérítések | H16: Támogatások | I16: Egyéb személyi juttatások | J16: Egyéb jogviszonyban foglalkoztatottak juttatása | K16: Összesen
A17: Foglalkoztatottak létszáma (fő) | B17: 16
A18: Személyi juttatások (Ft.) | B18: 100925948 | C18: 14027075 | D18: 164849 | E18: 3171821 | F18: 960000 | G18: 898771 | H18: 100000 | I18: 1856453 | J18: ='2022.I.'!J18+'2022.II.'!J18+'2022.III.'!J18+'2022.IV.'!J18 -> 0 | K18: =SUM(B18:J18) -> 122104917
A19: Megbízási díjak (fő) | B19: 0
A20: Megbízási díjak (Ft.) | B20: 0 | C20: 0 | D20: 0 | E20: 0 | F20: 0 | G20: 0 | H20: 0 | I20: 0 | J20: ='2022.I.'!J20+'2022.II.'!J20+'2022.III.'!J20+'2022.IV.'!J20 -> 0 | K20: =J20 -> 0
